BEGIN:VCALENDAR
VERSION:2.0
PRODID:-//TV Würenlos - ECPv6.15.20//NONSGML v1.0//EN
CALSCALE:GREGORIAN
METHOD:PUBLISH
X-WR-CALNAME:TV Würenlos
X-ORIGINAL-URL:https://tvwuerenlos.ch
X-WR-CALDESC:Veranstaltungen für TV Würenlos
REFRESH-INTERVAL;VALUE=DURATION:PT1H
X-Robots-Tag:noindex
X-PUBLISHED-TTL:PT1H
BEGIN:VTIMEZONE
TZID:Europe/Zurich
BEGIN:DAYLIGHT
TZOFFSETFROM:+0100
TZOFFSETTO:+0200
TZNAME:CEST
DTSTART:20250330T010000
END:DAYLIGHT
BEGIN:STANDARD
TZOFFSETFROM:+0200
TZOFFSETTO:+0100
TZNAME:CET
DTSTART:20251026T010000
END:STANDARD
BEGIN:DAYLIGHT
TZOFFSETFROM:+0100
TZOFFSETTO:+0200
TZNAME:CEST
DTSTART:20260329T010000
END:DAYLIGHT
BEGIN:STANDARD
TZOFFSETFROM:+0200
TZOFFSETTO:+0100
TZNAME:CET
DTSTART:20261025T010000
END:STANDARD
BEGIN:DAYLIGHT
TZOFFSETFROM:+0100
TZOFFSETTO:+0200
TZNAME:CEST
DTSTART:20270328T010000
END:DAYLIGHT
BEGIN:STANDARD
TZOFFSETFROM:+0200
TZOFFSETTO:+0100
TZNAME:CET
DTSTART:20271031T010000
END:STANDARD
BEGIN:DAYLIGHT
TZOFFSETFROM:+0100
TZOFFSETTO:+0200
TZNAME:CEST
DTSTART:20280326T010000
END:DAYLIGHT
BEGIN:STANDARD
TZOFFSETFROM:+0200
TZOFFSETTO:+0100
TZNAME:CET
DTSTART:20281029T010000
END:STANDARD
END:VTIMEZONE
BEGIN:VEVENT
DTSTART;VALUE=DATE:20260603
DTEND;VALUE=DATE:20260604
DTSTAMP:20260419T204325
CREATED:20260107T195150Z
LAST-MODIFIED:20260107T195150Z
UID:12421-1780444800-1780531199@tvwuerenlos.ch
SUMMARY:Nachtmarsch BKTV
DESCRIPTION:
URL:https://tvwuerenlos.ch/event/nachtmarsch-bktv/
LOCATION:Mehrzweckhalle Würenlos\, Gipfstrasse\, Würenlos\, 5436\, Schweiz
END:VEVENT
BEGIN:VEVENT
DTSTART;VALUE=DATE:20260606
DTEND;VALUE=DATE:20260608
DTSTAMP:20260419T204325
CREATED:20260107T195317Z
LAST-MODIFIED:20260107T195317Z
UID:12423-1780704000-1780876799@tvwuerenlos.ch
SUMMARY:Aargauer Meisterschaft Vereinsturnen
DESCRIPTION:
URL:https://tvwuerenlos.ch/event/aargauer-meisterschaft-vereinsturnen/
LOCATION:Gränichen
END:VEVENT
BEGIN:VEVENT
DTSTART;VALUE=DATE:20260620
DTEND;VALUE=DATE:20260621
DTSTAMP:20260419T204325
CREATED:20260107T195511Z
LAST-MODIFIED:20260107T195511Z
UID:12427-1781913600-1781999999@tvwuerenlos.ch
SUMMARY:#DennBliebetMerHaltDihei
DESCRIPTION:
URL:https://tvwuerenlos.ch/event/dennbliebetmerhaltdihei/
LOCATION:Würenlos
END:VEVENT
BEGIN:VEVENT
DTSTART;VALUE=DATE:20260815
DTEND;VALUE=DATE:20260816
DTSTAMP:20260419T204325
CREATED:20260107T195537Z
LAST-MODIFIED:20260107T195537Z
UID:12429-1786752000-1786838399@tvwuerenlos.ch
SUMMARY:Papiersammlung
DESCRIPTION:
URL:https://tvwuerenlos.ch/event/papiersammlung-4/
LOCATION:Bahnhof Würenlos
END:VEVENT
BEGIN:VEVENT
DTSTART;VALUE=DATE:20260822
DTEND;VALUE=DATE:20260824
DTSTAMP:20260419T204325
CREATED:20260107T195653Z
LAST-MODIFIED:20260107T195653Z
UID:12431-1787356800-1787529599@tvwuerenlos.ch
SUMMARY:Jugendreise
DESCRIPTION:
URL:https://tvwuerenlos.ch/event/jugendreise/
END:VEVENT
BEGIN:VEVENT
DTSTART;VALUE=DATE:20260829
DTEND;VALUE=DATE:20260831
DTSTAMP:20260419T204325
CREATED:20260107T195744Z
LAST-MODIFIED:20260107T195744Z
UID:12433-1787961600-1788134399@tvwuerenlos.ch
SUMMARY:Mini Aargovia Cup
DESCRIPTION:
URL:https://tvwuerenlos.ch/event/mini-aargovia-cup/
LOCATION:Kleindöttigen
END:VEVENT
BEGIN:VEVENT
DTSTART;VALUE=DATE:20260906
DTEND;VALUE=DATE:20260907
DTSTAMP:20260419T204325
CREATED:20260107T195831Z
LAST-MODIFIED:20260107T195831Z
UID:12435-1788652800-1788739199@tvwuerenlos.ch
SUMMARY:Plauschwettkampf Jugend
DESCRIPTION:
URL:https://tvwuerenlos.ch/event/plauschwettkampf-jugend-2/
LOCATION:Gebenstorf
END:VEVENT
BEGIN:VEVENT
DTSTART;VALUE=DATE:20261016
DTEND;VALUE=DATE:20261018
DTSTAMP:20260419T204325
CREATED:20260107T195910Z
LAST-MODIFIED:20260107T195910Z
UID:12437-1792108800-1792281599@tvwuerenlos.ch
SUMMARY:NWS
DESCRIPTION:
URL:https://tvwuerenlos.ch/event/nws/
LOCATION:Liestal
END:VEVENT
BEGIN:VEVENT
DTSTART;VALUE=DATE:20261022
DTEND;VALUE=DATE:20261023
DTSTAMP:20260419T204325
CREATED:20260107T195944Z
LAST-MODIFIED:20260107T195944Z
UID:12440-1792627200-1792713599@tvwuerenlos.ch
SUMMARY:SPORT FORUM Aargau
DESCRIPTION:
URL:https://tvwuerenlos.ch/event/sport-forum-aargau-2/
LOCATION:Wettingen
END:VEVENT
BEGIN:VEVENT
DTSTART;VALUE=DATE:20261114
DTEND;VALUE=DATE:20261115
DTSTAMP:20260419T204325
CREATED:20260107T200027Z
LAST-MODIFIED:20260107T200027Z
UID:12442-1794614400-1794700799@tvwuerenlos.ch
SUMMARY:Delegiertenversammlung ATV
DESCRIPTION:
URL:https://tvwuerenlos.ch/event/delegiertenversammlung-atv-2/
LOCATION:Kölliken
END:VEVENT
BEGIN:VEVENT
DTSTART;VALUE=DATE:20261127
DTEND;VALUE=DATE:20261128
DTSTAMP:20260419T204325
CREATED:20260107T200101Z
LAST-MODIFIED:20260107T200101Z
UID:12445-1795737600-1795823999@tvwuerenlos.ch
SUMMARY:Delegiertenversammlung Badener Kreisturnverband
DESCRIPTION:
URL:https://tvwuerenlos.ch/event/delegiertenversammlung-badener-kreisturnverband/
LOCATION:Killwangen
END:VEVENT
BEGIN:VEVENT
DTSTART;VALUE=DATE:20261215
DTEND;VALUE=DATE:20261216
DTSTAMP:20260419T204325
CREATED:20260107T200227Z
LAST-MODIFIED:20260107T200227Z
UID:12447-1797292800-1797379199@tvwuerenlos.ch
SUMMARY:Jahresabschluss Frauen und Aktive w
DESCRIPTION:
URL:https://tvwuerenlos.ch/event/jahresabschluss-frauen-und-aktive-w/
END:VEVENT
BEGIN:VEVENT
DTSTART;VALUE=DATE:20270116
DTEND;VALUE=DATE:20270117
DTSTAMP:20260419T204325
CREATED:20260107T200255Z
LAST-MODIFIED:20260107T200255Z
UID:12449-1800057600-1800143999@tvwuerenlos.ch
SUMMARY:Generalversammlung
DESCRIPTION:
URL:https://tvwuerenlos.ch/event/generalversammlung/
LOCATION:Mehrzweckhalle Würenlos\, Gipfstrasse\, Würenlos\, 5436\, Schweiz
END:VEVENT
END:VCALENDAR