BEGIN:VCALENDAR
VERSION:2.0
PRODID:-//TV Würenlos - ECPv6.15.20//NONSGML v1.0//EN
CALSCALE:GREGORIAN
METHOD:PUBLISH
X-ORIGINAL-URL:https://tvwuerenlos.ch
X-WR-CALDESC:Veranstaltungen für TV Würenlos
REFRESH-INTERVAL;VALUE=DURATION:PT1H
X-Robots-Tag:noindex
X-PUBLISHED-TTL:PT1H
BEGIN:VTIMEZONE
TZID:Europe/Zurich
BEGIN:DAYLIGHT
TZOFFSETFROM:+0100
TZOFFSETTO:+0200
TZNAME:CEST
DTSTART:20240331T010000
END:DAYLIGHT
BEGIN:STANDARD
TZOFFSETFROM:+0200
TZOFFSETTO:+0100
TZNAME:CET
DTSTART:20241027T010000
END:STANDARD
BEGIN:DAYLIGHT
TZOFFSETFROM:+0100
TZOFFSETTO:+0200
TZNAME:CEST
DTSTART:20250330T010000
END:DAYLIGHT
BEGIN:STANDARD
TZOFFSETFROM:+0200
TZOFFSETTO:+0100
TZNAME:CET
DTSTART:20251026T010000
END:STANDARD
BEGIN:DAYLIGHT
TZOFFSETFROM:+0100
TZOFFSETTO:+0200
TZNAME:CEST
DTSTART:20260329T010000
END:DAYLIGHT
BEGIN:STANDARD
TZOFFSETFROM:+0200
TZOFFSETTO:+0100
TZNAME:CET
DTSTART:20261025T010000
END:STANDARD
END:VTIMEZONE
BEGIN:VEVENT
DTSTART;VALUE=DATE:20250503
DTEND;VALUE=DATE:20250504
DTSTAMP:20260420T134128
CREATED:20250115T214351Z
LAST-MODIFIED:20250115T214351Z
UID:11271-1746230400-1746316799@tvwuerenlos.ch
SUMMARY:Plauscholympiade
DESCRIPTION:
URL:https://tvwuerenlos.ch/event/plauscholympiade/
LOCATION:Mehrzweckhalle Würenlos\, Gipfstrasse\, Würenlos\, 5436\, Schweiz
END:VEVENT
BEGIN:VEVENT
DTSTART;VALUE=DATE:20250503
DTEND;VALUE=DATE:20250504
DTSTAMP:20260420T134128
CREATED:20250115T214439Z
LAST-MODIFIED:20250115T214439Z
UID:11273-1746230400-1746316799@tvwuerenlos.ch
SUMMARY:Kreisjugitag BKTV
DESCRIPTION:
URL:https://tvwuerenlos.ch/event/kreisjugitag-bktv/
LOCATION:Killwangen
END:VEVENT
BEGIN:VEVENT
DTSTART;VALUE=DATE:20250510
DTEND;VALUE=DATE:20250512
DTSTAMP:20260420T134128
CREATED:20250115T214724Z
LAST-MODIFIED:20250115T214724Z
UID:11277-1746835200-1747007999@tvwuerenlos.ch
SUMMARY:Grätu Cup Gränichen
DESCRIPTION:
URL:https://tvwuerenlos.ch/event/graetu-cup-graenichen/
LOCATION:Mehrzweck- und Sporthalle Gränichen\, Hinterhagweg 1\, Gränichen
END:VEVENT
BEGIN:VEVENT
DTSTART;TZID=Europe/Zurich:20250514T180000
DTEND;TZID=Europe/Zurich:20250514T220000
DTSTAMP:20260420T134128
CREATED:20250115T215216Z
LAST-MODIFIED:20250115T215216Z
UID:11279-1747245600-1747260000@tvwuerenlos.ch
SUMMARY:Präsidenten- und Leiterkonferenz
DESCRIPTION:
URL:https://tvwuerenlos.ch/event/praesidenten-und-leiterkonferenz/
LOCATION:Untersiggenthal
END:VEVENT
BEGIN:VEVENT
DTSTART;TZID=Europe/Zurich:20250517T080000
DTEND;TZID=Europe/Zurich:20250518T170000
DTSTAMP:20260420T134128
CREATED:20250115T215545Z
LAST-MODIFIED:20250115T215545Z
UID:11281-1747468800-1747587600@tvwuerenlos.ch
SUMMARY:Trainingsweekend
DESCRIPTION:
URL:https://tvwuerenlos.ch/event/trainingsweekend-2/
LOCATION:Mehrzweckhalle Würenlos\, Gipfstrasse\, Würenlos\, 5436\, Schweiz
END:VEVENT
BEGIN:VEVENT
DTSTART;VALUE=DATE:20250523
DTEND;VALUE=DATE:20250524
DTSTAMP:20260420T134128
CREATED:20250116T220902Z
LAST-MODIFIED:20250116T220902Z
UID:11283-1747958400-1748044799@tvwuerenlos.ch
SUMMARY:LAKO Cup
DESCRIPTION:
URL:https://tvwuerenlos.ch/event/lako-cup-2/
END:VEVENT
BEGIN:VEVENT
DTSTART;TZID=Europe/Zurich:20250523T180000
DTEND;TZID=Europe/Zurich:20250523T180000
DTSTAMP:20260420T134128
CREATED:20250116T221040Z
LAST-MODIFIED:20250116T221040Z
UID:11285-1748023200-1748023200@tvwuerenlos.ch
SUMMARY:Turnibutz Cup
DESCRIPTION:
URL:https://tvwuerenlos.ch/event/turnibutz-cup/
LOCATION:Vordemwald
END:VEVENT
BEGIN:VEVENT
DTSTART;VALUE=DATE:20250524
DTEND;VALUE=DATE:20250526
DTSTAMP:20260420T134128
CREATED:20250116T221112Z
LAST-MODIFIED:20250116T221112Z
UID:11287-1748044800-1748217599@tvwuerenlos.ch
SUMMARY:Trainingstage
DESCRIPTION:
URL:https://tvwuerenlos.ch/event/trainingstage/
LOCATION:Mehrzweckhalle Würenlos\, Gipfstrasse\, Würenlos\, 5436\, Schweiz
END:VEVENT
BEGIN:VEVENT
DTSTART;VALUE=DATE:20250524
DTEND;VALUE=DATE:20250526
DTSTAMP:20260420T134128
CREATED:20250116T221236Z
LAST-MODIFIED:20250116T221236Z
UID:11289-1748044800-1748217599@tvwuerenlos.ch
SUMMARY:Aargauer Meisterschaft im Einzelgeräteturnen
DESCRIPTION:
URL:https://tvwuerenlos.ch/event/aargauer-meisterschaft-im-einzelgeraeteturnen/
LOCATION:Muri
END:VEVENT
BEGIN:VEVENT
DTSTART;VALUE=DATE:20250525
DTEND;VALUE=DATE:20250526
DTSTAMP:20260420T134128
CREATED:20250116T221310Z
LAST-MODIFIED:20250116T221310Z
UID:11292-1748131200-1748217599@tvwuerenlos.ch
SUMMARY:Trainingstag Jugend
DESCRIPTION:
URL:https://tvwuerenlos.ch/event/trainingstag-jugend/
LOCATION:Mehrzweckhalle Würenlos\, Gipfstrasse\, Würenlos\, 5436\, Schweiz
END:VEVENT
BEGIN:VEVENT
DTSTART;TZID=Europe/Zurich:20250528T080000
DTEND;TZID=Europe/Zurich:20250528T170000
DTSTAMP:20260420T134128
CREATED:20250116T221354Z
LAST-MODIFIED:20250116T221354Z
UID:11294-1748419200-1748451600@tvwuerenlos.ch
SUMMARY:Mille Gruyère Regionalfinal
DESCRIPTION:
URL:https://tvwuerenlos.ch/event/mille-gruyere-regionalfinal/
LOCATION:Sportanlage Aue Baden\, Kanalstrasse\, Baden
END:VEVENT
BEGIN:VEVENT
DTSTART;TZID=Europe/Zurich:20250528T180000
DTEND;TZID=Europe/Zurich:20250528T180000
DTSTAMP:20260420T134128
CREATED:20250116T221445Z
LAST-MODIFIED:20250116T221445Z
UID:11296-1748455200-1748455200@tvwuerenlos.ch
SUMMARY:Kegelabend
DESCRIPTION:
URL:https://tvwuerenlos.ch/event/kegelabend/
LOCATION:Otelfingen
CATEGORIES:Senioren
END:VEVENT
BEGIN:VEVENT
DTSTART;VALUE=DATE:20250531
DTEND;VALUE=DATE:20250602
DTSTAMP:20260420T134128
CREATED:20250116T221605Z
LAST-MODIFIED:20250116T221605Z
UID:11299-1748649600-1748822399@tvwuerenlos.ch
SUMMARY:Aargauer Meisterschaft Vereinsturnen
DESCRIPTION:
URL:https://tvwuerenlos.ch/event/aargauer-meisterschaft-vereinsturnen-2/
LOCATION:Wettingen
END:VEVENT
END:VCALENDAR