BEGIN:VCALENDAR
VERSION:2.0
PRODID:-//TV Würenlos - ECPv6.15.20//NONSGML v1.0//EN
CALSCALE:GREGORIAN
METHOD:PUBLISH
X-WR-CALNAME:TV Würenlos
X-ORIGINAL-URL:https://tvwuerenlos.ch
X-WR-CALDESC:Veranstaltungen für TV Würenlos
REFRESH-INTERVAL;VALUE=DURATION:PT1H
X-Robots-Tag:noindex
X-PUBLISHED-TTL:PT1H
BEGIN:VTIMEZONE
TZID:Europe/Zurich
BEGIN:DAYLIGHT
TZOFFSETFROM:+0100
TZOFFSETTO:+0200
TZNAME:CEST
DTSTART:20240331T010000
END:DAYLIGHT
BEGIN:STANDARD
TZOFFSETFROM:+0200
TZOFFSETTO:+0100
TZNAME:CET
DTSTART:20241027T010000
END:STANDARD
BEGIN:DAYLIGHT
TZOFFSETFROM:+0100
TZOFFSETTO:+0200
TZNAME:CEST
DTSTART:20250330T010000
END:DAYLIGHT
BEGIN:STANDARD
TZOFFSETFROM:+0200
TZOFFSETTO:+0100
TZNAME:CET
DTSTART:20251026T010000
END:STANDARD
BEGIN:DAYLIGHT
TZOFFSETFROM:+0100
TZOFFSETTO:+0200
TZNAME:CEST
DTSTART:20260329T010000
END:DAYLIGHT
BEGIN:STANDARD
TZOFFSETFROM:+0200
TZOFFSETTO:+0100
TZNAME:CET
DTSTART:20261025T010000
END:STANDARD
END:VTIMEZONE
BEGIN:VEVENT
DTSTART;VALUE=DATE:20250907
DTEND;VALUE=DATE:20250908
DTSTAMP:20260420T063758
CREATED:20250116T223056Z
LAST-MODIFIED:20250116T223056Z
UID:11315-1757203200-1757289599@tvwuerenlos.ch
SUMMARY:Plauschwettkampf Jugend
DESCRIPTION:
URL:https://tvwuerenlos.ch/event/plauschwettkampf-jugend/
LOCATION:Gebenstorf
END:VEVENT
BEGIN:VEVENT
DTSTART;VALUE=DATE:20250913
DTEND;VALUE=DATE:20250915
DTSTAMP:20260420T063758
CREATED:20250116T225812Z
LAST-MODIFIED:20250116T225812Z
UID:11319-1757721600-1757894399@tvwuerenlos.ch
SUMMARY:Zugercup
DESCRIPTION:
URL:https://tvwuerenlos.ch/event/zugercup/
LOCATION:Zug
END:VEVENT
BEGIN:VEVENT
DTSTART;VALUE=DATE:20250920
DTEND;VALUE=DATE:20250922
DTSTAMP:20260420T063758
CREATED:20250116T230111Z
LAST-MODIFIED:20250116T230111Z
UID:11321-1758326400-1758499199@tvwuerenlos.ch
SUMMARY:Herbstcup
DESCRIPTION:
URL:https://tvwuerenlos.ch/event/herbstcup/
LOCATION:Gränichen
END:VEVENT
BEGIN:VEVENT
DTSTART;TZID=Europe/Zurich:20250924T180000
DTEND;TZID=Europe/Zurich:20250924T230000
DTSTAMP:20260420T063758
CREATED:20250117T201820Z
LAST-MODIFIED:20250117T201820Z
UID:11323-1758736800-1758754800@tvwuerenlos.ch
SUMMARY:Schnurball Plauschturnier
DESCRIPTION:
URL:https://tvwuerenlos.ch/event/schnurball-plauschturnier-2/
LOCATION:Gebenstorf
END:VEVENT
END:VCALENDAR