BEGIN:VCALENDAR
VERSION:2.0
PRODID:-//TV Würenlos - ECPv6.15.20//NONSGML v1.0//EN
CALSCALE:GREGORIAN
METHOD:PUBLISH
X-ORIGINAL-URL:https://tvwuerenlos.ch
X-WR-CALDESC:Veranstaltungen für TV Würenlos
REFRESH-INTERVAL;VALUE=DURATION:PT1H
X-Robots-Tag:noindex
X-PUBLISHED-TTL:PT1H
BEGIN:VTIMEZONE
TZID:Europe/Zurich
BEGIN:DAYLIGHT
TZOFFSETFROM:+0100
TZOFFSETTO:+0200
TZNAME:CEST
DTSTART:20240331T010000
END:DAYLIGHT
BEGIN:STANDARD
TZOFFSETFROM:+0200
TZOFFSETTO:+0100
TZNAME:CET
DTSTART:20241027T010000
END:STANDARD
BEGIN:DAYLIGHT
TZOFFSETFROM:+0100
TZOFFSETTO:+0200
TZNAME:CEST
DTSTART:20250330T010000
END:DAYLIGHT
BEGIN:STANDARD
TZOFFSETFROM:+0200
TZOFFSETTO:+0100
TZNAME:CET
DTSTART:20251026T010000
END:STANDARD
BEGIN:DAYLIGHT
TZOFFSETFROM:+0100
TZOFFSETTO:+0200
TZNAME:CEST
DTSTART:20260329T010000
END:DAYLIGHT
BEGIN:STANDARD
TZOFFSETFROM:+0200
TZOFFSETTO:+0100
TZNAME:CET
DTSTART:20261025T010000
END:STANDARD
END:VTIMEZONE
BEGIN:VEVENT
DTSTART;TZID=Europe/Zurich:20251022T180000
DTEND;TZID=Europe/Zurich:20251022T210000
DTSTAMP:20260420T044816
CREATED:20250117T201919Z
LAST-MODIFIED:20250117T201919Z
UID:11325-1761156000-1761166800@tvwuerenlos.ch
SUMMARY:Jugendleiterkonferenz BKTV
DESCRIPTION:
URL:https://tvwuerenlos.ch/event/jugendleiterkonferenz-bktv-2/
END:VEVENT
BEGIN:VEVENT
DTSTART;TZID=Europe/Zurich:20251023T080000
DTEND;TZID=Europe/Zurich:20251023T170000
DTSTAMP:20260420T044816
CREATED:20250117T202057Z
LAST-MODIFIED:20250117T202057Z
UID:11327-1761206400-1761238800@tvwuerenlos.ch
SUMMARY:SPORT FORUM Aargau
DESCRIPTION:
URL:https://tvwuerenlos.ch/event/sport-forum-aargau/
LOCATION:Wettingen
END:VEVENT
BEGIN:VEVENT
DTSTART;VALUE=DATE:20251025
DTEND;VALUE=DATE:20251026
DTSTAMP:20260420T044816
CREATED:20250117T202201Z
LAST-MODIFIED:20250117T202201Z
UID:11329-1761350400-1761436799@tvwuerenlos.ch
SUMMARY:NWS Gipf-Oberfrick
DESCRIPTION:
URL:https://tvwuerenlos.ch/event/nws-gipf-oberfrick/
LOCATION:Gipf-Oberfrick
END:VEVENT
END:VCALENDAR