BEGIN:VCALENDAR
VERSION:2.0
PRODID:-//TV Würenlos - ECPv6.15.20//NONSGML v1.0//EN
CALSCALE:GREGORIAN
METHOD:PUBLISH
X-WR-CALNAME:TV Würenlos
X-ORIGINAL-URL:https://tvwuerenlos.ch
X-WR-CALDESC:Veranstaltungen für TV Würenlos
REFRESH-INTERVAL;VALUE=DURATION:PT1H
X-Robots-Tag:noindex
X-PUBLISHED-TTL:PT1H
BEGIN:VTIMEZONE
TZID:Europe/Zurich
BEGIN:DAYLIGHT
TZOFFSETFROM:+0100
TZOFFSETTO:+0200
TZNAME:CEST
DTSTART:20240331T010000
END:DAYLIGHT
BEGIN:STANDARD
TZOFFSETFROM:+0200
TZOFFSETTO:+0100
TZNAME:CET
DTSTART:20241027T010000
END:STANDARD
BEGIN:DAYLIGHT
TZOFFSETFROM:+0100
TZOFFSETTO:+0200
TZNAME:CEST
DTSTART:20250330T010000
END:DAYLIGHT
BEGIN:STANDARD
TZOFFSETFROM:+0200
TZOFFSETTO:+0100
TZNAME:CET
DTSTART:20251026T010000
END:STANDARD
BEGIN:DAYLIGHT
TZOFFSETFROM:+0100
TZOFFSETTO:+0200
TZNAME:CEST
DTSTART:20260329T010000
END:DAYLIGHT
BEGIN:STANDARD
TZOFFSETFROM:+0200
TZOFFSETTO:+0100
TZNAME:CET
DTSTART:20261025T010000
END:STANDARD
END:VTIMEZONE
BEGIN:VEVENT
DTSTART;VALUE=DATE:20251108
DTEND;VALUE=DATE:20251109
DTSTAMP:20260420T030643
CREATED:20250117T202238Z
LAST-MODIFIED:20250117T202238Z
UID:11332-1762560000-1762646399@tvwuerenlos.ch
SUMMARY:Delegiertenversammlung ATV
DESCRIPTION:
URL:https://tvwuerenlos.ch/event/delegiertenversammlung-atv/
END:VEVENT
BEGIN:VEVENT
DTSTART;VALUE=DATE:20251109
DTEND;VALUE=DATE:20251110
DTSTAMP:20260420T030643
CREATED:20250117T202324Z
LAST-MODIFIED:20250117T202324Z
UID:11334-1762646400-1762732799@tvwuerenlos.ch
SUMMARY:Tuvo Trainingssonntag
DESCRIPTION:
URL:https://tvwuerenlos.ch/event/tuvo-trainingssonntag/
LOCATION:Mehrzweckhalle Würenlos\, Gipfstrasse\, Würenlos\, 5436\, Schweiz
END:VEVENT
BEGIN:VEVENT
DTSTART;VALUE=DATE:20251121
DTEND;VALUE=DATE:20251124
DTSTAMP:20260420T030643
CREATED:20250117T202422Z
LAST-MODIFIED:20250117T202422Z
UID:11336-1763683200-1763942399@tvwuerenlos.ch
SUMMARY:Turnervorstellung
DESCRIPTION:
URL:https://tvwuerenlos.ch/event/turnervorstellung/
LOCATION:Mehrzweckhalle Würenlos\, Gipfstrasse\, Würenlos\, 5436\, Schweiz
END:VEVENT
BEGIN:VEVENT
DTSTART;TZID=Europe/Zurich:20251128T180000
DTEND;TZID=Europe/Zurich:20251128T230000
DTSTAMP:20260420T030643
CREATED:20250117T202530Z
LAST-MODIFIED:20250117T202530Z
UID:11338-1764352800-1764370800@tvwuerenlos.ch
SUMMARY:Delegiertenversammlung BKTV
DESCRIPTION:
URL:https://tvwuerenlos.ch/event/delegiertenversammlung-bktv-2/
LOCATION:Bergdietikon
END:VEVENT
BEGIN:VEVENT
DTSTART;VALUE=DATE:20251129
DTEND;VALUE=DATE:20251130
DTSTAMP:20260420T030643
CREATED:20250117T202617Z
LAST-MODIFIED:20250117T202617Z
UID:11340-1764374400-1764460799@tvwuerenlos.ch
SUMMARY:Kids Cup
DESCRIPTION:
URL:https://tvwuerenlos.ch/event/kids-cup/
END:VEVENT
END:VCALENDAR