BEGIN:VCALENDAR
VERSION:2.0
PRODID:-//TV Würenlos - ECPv6.15.20//NONSGML v1.0//EN
CALSCALE:GREGORIAN
METHOD:PUBLISH
X-ORIGINAL-URL:https://tvwuerenlos.ch
X-WR-CALDESC:Veranstaltungen für TV Würenlos
REFRESH-INTERVAL;VALUE=DURATION:PT1H
X-Robots-Tag:noindex
X-PUBLISHED-TTL:PT1H
BEGIN:VTIMEZONE
TZID:Europe/Zurich
BEGIN:DAYLIGHT
TZOFFSETFROM:+0100
TZOFFSETTO:+0200
TZNAME:CEST
DTSTART:20250330T010000
END:DAYLIGHT
BEGIN:STANDARD
TZOFFSETFROM:+0200
TZOFFSETTO:+0100
TZNAME:CET
DTSTART:20251026T010000
END:STANDARD
BEGIN:DAYLIGHT
TZOFFSETFROM:+0100
TZOFFSETTO:+0200
TZNAME:CEST
DTSTART:20260329T010000
END:DAYLIGHT
BEGIN:STANDARD
TZOFFSETFROM:+0200
TZOFFSETTO:+0100
TZNAME:CET
DTSTART:20261025T010000
END:STANDARD
BEGIN:DAYLIGHT
TZOFFSETFROM:+0100
TZOFFSETTO:+0200
TZNAME:CEST
DTSTART:20270328T010000
END:DAYLIGHT
BEGIN:STANDARD
TZOFFSETFROM:+0200
TZOFFSETTO:+0100
TZNAME:CET
DTSTART:20271031T010000
END:STANDARD
END:VTIMEZONE
BEGIN:VEVENT
DTSTART;TZID=Europe/Zurich:20260106T180000
DTEND;TZID=Europe/Zurich:20260106T220000
DTSTAMP:20260420T000429
CREATED:20251228T194300Z
LAST-MODIFIED:20251228T194300Z
UID:12313-1767722400-1767736800@tvwuerenlos.ch
SUMMARY:Volleyball Meisterschaft
DESCRIPTION:
URL:https://tvwuerenlos.ch/event/volleyball-meisterschaft/
LOCATION:Mehrzweckhalle Würenlos\, Gipfstrasse\, Würenlos\, 5436\, Schweiz
END:VEVENT
BEGIN:VEVENT
DTSTART;VALUE=DATE:20260109
DTEND;VALUE=DATE:20260110
DTSTAMP:20260420T000429
CREATED:20250117T202928Z
LAST-MODIFIED:20250117T202928Z
UID:11347-1767916800-1768003199@tvwuerenlos.ch
SUMMARY:Jahresanfangbummel
DESCRIPTION:Senioren
URL:https://tvwuerenlos.ch/event/jahresanfangbummel/
END:VEVENT
BEGIN:VEVENT
DTSTART;TZID=Europe/Zurich:20260115T193000
DTEND;TZID=Europe/Zurich:20260115T220000
DTSTAMP:20260420T000429
CREATED:20251228T194517Z
LAST-MODIFIED:20251228T194534Z
UID:12316-1768505400-1768514400@tvwuerenlos.ch
SUMMARY:BKTV Schnupperabend Netzball
DESCRIPTION:
URL:https://tvwuerenlos.ch/event/bktv-schnupperabend-netzball/
LOCATION:Niederrohrdorf
END:VEVENT
BEGIN:VEVENT
DTSTART;VALUE=DATE:20260116
DTEND;VALUE=DATE:20260117
DTSTAMP:20260420T000429
CREATED:20251228T194932Z
LAST-MODIFIED:20251228T194932Z
UID:12318-1768521600-1768607999@tvwuerenlos.ch
SUMMARY:Volleyball Meisterschaft
DESCRIPTION:
URL:https://tvwuerenlos.ch/event/volleyball-meisterschaft-2/
LOCATION:Mehrzweckhalle Würenlos\, Gipfstrasse\, Würenlos\, 5436\, Schweiz
END:VEVENT
BEGIN:VEVENT
DTSTART;TZID=Europe/Zurich:20260117T170000
DTEND;TZID=Europe/Zurich:20260117T170000
DTSTAMP:20260420T000429
CREATED:20250115T214548Z
LAST-MODIFIED:20250115T214548Z
UID:11275-1768669200-1768669200@tvwuerenlos.ch
SUMMARY:14. Generalversammlung
DESCRIPTION:
URL:https://tvwuerenlos.ch/event/14-generalversammlung/
LOCATION:Mehrzweckhalle Würenlos\, Gipfstrasse\, Würenlos\, 5436\, Schweiz
END:VEVENT
BEGIN:VEVENT
DTSTART;VALUE=DATE:20260119
DTEND;VALUE=DATE:20260120
DTSTAMP:20260420T000429
CREATED:20251228T195018Z
LAST-MODIFIED:20251228T195018Z
UID:12320-1768780800-1768867199@tvwuerenlos.ch
SUMMARY:Volleyball Heimmatch
DESCRIPTION:
URL:https://tvwuerenlos.ch/event/volleyball-heimmatch/
LOCATION:Mehrzweckhalle Würenlos\, Gipfstrasse\, Würenlos\, 5436\, Schweiz
END:VEVENT
BEGIN:VEVENT
DTSTART;VALUE=DATE:20260125
DTEND;VALUE=DATE:20260126
DTSTAMP:20260420T000429
CREATED:20251228T195057Z
LAST-MODIFIED:20251228T195057Z
UID:12323-1769299200-1769385599@tvwuerenlos.ch
SUMMARY:Unihockeyturnier BKTV
DESCRIPTION:
URL:https://tvwuerenlos.ch/event/unihockeyturnier-bktv/
LOCATION:Niederrohrdorf
END:VEVENT
BEGIN:VEVENT
DTSTART;VALUE=DATE:20260127
DTEND;VALUE=DATE:20260128
DTSTAMP:20260420T000429
CREATED:20251228T195143Z
LAST-MODIFIED:20251228T195143Z
UID:12325-1769472000-1769558399@tvwuerenlos.ch
SUMMARY:Faustball Meisterschaftsrunde
DESCRIPTION:
URL:https://tvwuerenlos.ch/event/faustball-meisterschaftsrunde/
LOCATION:Auenstein
END:VEVENT
END:VCALENDAR