BEGIN:VCALENDAR
VERSION:2.0
PRODID:-//TV Würenlos - ECPv6.15.20//NONSGML v1.0//EN
CALSCALE:GREGORIAN
METHOD:PUBLISH
X-ORIGINAL-URL:https://tvwuerenlos.ch
X-WR-CALDESC:Veranstaltungen für TV Würenlos
REFRESH-INTERVAL;VALUE=DURATION:PT1H
X-Robots-Tag:noindex
X-PUBLISHED-TTL:PT1H
BEGIN:VTIMEZONE
TZID:Europe/Zurich
BEGIN:DAYLIGHT
TZOFFSETFROM:+0100
TZOFFSETTO:+0200
TZNAME:CEST
DTSTART:20250330T010000
END:DAYLIGHT
BEGIN:STANDARD
TZOFFSETFROM:+0200
TZOFFSETTO:+0100
TZNAME:CET
DTSTART:20251026T010000
END:STANDARD
BEGIN:DAYLIGHT
TZOFFSETFROM:+0100
TZOFFSETTO:+0200
TZNAME:CEST
DTSTART:20260329T010000
END:DAYLIGHT
BEGIN:STANDARD
TZOFFSETFROM:+0200
TZOFFSETTO:+0100
TZNAME:CET
DTSTART:20261025T010000
END:STANDARD
BEGIN:DAYLIGHT
TZOFFSETFROM:+0100
TZOFFSETTO:+0200
TZNAME:CEST
DTSTART:20270328T010000
END:DAYLIGHT
BEGIN:STANDARD
TZOFFSETFROM:+0200
TZOFFSETTO:+0100
TZNAME:CET
DTSTART:20271031T010000
END:STANDARD
END:VTIMEZONE
BEGIN:VEVENT
DTSTART;VALUE=DATE:20260202
DTEND;VALUE=DATE:20260203
DTSTAMP:20260419T222017
CREATED:20251228T195307Z
LAST-MODIFIED:20251228T195307Z
UID:12329-1769990400-1770076799@tvwuerenlos.ch
SUMMARY:Volleyball Meisterschaft
DESCRIPTION:
URL:https://tvwuerenlos.ch/event/volleyball-meisterschaft-3/
LOCATION:Mehrzweckhalle Würenlos\, Gipfstrasse\, Würenlos\, 5436\, Schweiz
END:VEVENT
BEGIN:VEVENT
DTSTART;VALUE=DATE:20260210
DTEND;VALUE=DATE:20260211
DTSTAMP:20260419T222017
CREATED:20251228T195342Z
LAST-MODIFIED:20251228T195342Z
UID:12331-1770681600-1770767999@tvwuerenlos.ch
SUMMARY:Faustball Meisterschaftsrunde
DESCRIPTION:
URL:https://tvwuerenlos.ch/event/faustball-meisterschaftsrunde-2/
END:VEVENT
BEGIN:VEVENT
DTSTART;VALUE=DATE:20260213
DTEND;VALUE=DATE:20260214
DTSTAMP:20260419T222017
CREATED:20251228T195504Z
LAST-MODIFIED:20251228T195504Z
UID:12333-1770940800-1771027199@tvwuerenlos.ch
SUMMARY:Volleyball Meisterschaft
DESCRIPTION:
URL:https://tvwuerenlos.ch/event/volleyball-meisterschaft-4/
LOCATION:Mehrzweckhalle Würenlos\, Gipfstrasse\, Würenlos\, 5436\, Schweiz
END:VEVENT
BEGIN:VEVENT
DTSTART;VALUE=DATE:20260216
DTEND;VALUE=DATE:20260217
DTSTAMP:20260419T222017
CREATED:20251228T195533Z
LAST-MODIFIED:20251228T195533Z
UID:12336-1771200000-1771286399@tvwuerenlos.ch
SUMMARY:Volleyball Meisterschaft
DESCRIPTION:
URL:https://tvwuerenlos.ch/event/volleyball-meisterschaft-5/
LOCATION:Mehrzweckhalle Würenlos\, Gipfstrasse\, Würenlos\, 5436\, Schweiz
END:VEVENT
BEGIN:VEVENT
DTSTART;VALUE=DATE:20260220
DTEND;VALUE=DATE:20260221
DTSTAMP:20260419T222017
CREATED:20251228T195605Z
LAST-MODIFIED:20251228T195605Z
UID:12339-1771545600-1771631999@tvwuerenlos.ch
SUMMARY:Volleyball Meisterschaft
DESCRIPTION:
URL:https://tvwuerenlos.ch/event/volleyball-meisterschaft-6/
LOCATION:Mehrzweckhalle Würenlos\, Gipfstrasse\, Würenlos\, 5436\, Schweiz
END:VEVENT
BEGIN:VEVENT
DTSTART;VALUE=DATE:20260223
DTEND;VALUE=DATE:20260224
DTSTAMP:20260419T222017
CREATED:20251228T195640Z
LAST-MODIFIED:20251228T195640Z
UID:12341-1771804800-1771891199@tvwuerenlos.ch
SUMMARY:Kreisspielwoche Netzball Damen/Mixed
DESCRIPTION:
URL:https://tvwuerenlos.ch/event/kreisspielwoche-netzball-damen-mixed/
LOCATION:Obersiggenthal
END:VEVENT
BEGIN:VEVENT
DTSTART;VALUE=DATE:20260224
DTEND;VALUE=DATE:20260225
DTSTAMP:20260419T222017
CREATED:20251228T195711Z
LAST-MODIFIED:20251228T195711Z
UID:12343-1771891200-1771977599@tvwuerenlos.ch
SUMMARY:Kreisspielwoche Volleyball Aktive
DESCRIPTION:
URL:https://tvwuerenlos.ch/event/kreisspielwoche-volleyball-aktive/
LOCATION:Mehrzweckhalle Würenlos\, Gipfstrasse\, Würenlos\, 5436\, Schweiz
END:VEVENT
BEGIN:VEVENT
DTSTART;VALUE=DATE:20260225
DTEND;VALUE=DATE:20260226
DTSTAMP:20260419T222017
CREATED:20251228T195754Z
LAST-MODIFIED:20251228T195754Z
UID:12345-1771977600-1772063999@tvwuerenlos.ch
SUMMARY:Kreisspielwoche Schnurball
DESCRIPTION:
URL:https://tvwuerenlos.ch/event/kreisspielwoche-schnurball/
LOCATION:Gebenstorf
END:VEVENT
BEGIN:VEVENT
DTSTART;VALUE=DATE:20260226
DTEND;VALUE=DATE:20260227
DTSTAMP:20260419T222017
CREATED:20251228T195824Z
LAST-MODIFIED:20251228T195824Z
UID:12347-1772064000-1772150399@tvwuerenlos.ch
SUMMARY:Kreisspielwoche Faustball
DESCRIPTION:
URL:https://tvwuerenlos.ch/event/kreisspielwoche-faustball/
LOCATION:Mehrzweckhalle Würenlos\, Gipfstrasse\, Würenlos\, 5436\, Schweiz
END:VEVENT
BEGIN:VEVENT
DTSTART;VALUE=DATE:20260227
DTEND;VALUE=DATE:20260228
DTSTAMP:20260419T222017
CREATED:20251228T195848Z
LAST-MODIFIED:20251228T195848Z
UID:12350-1772150400-1772236799@tvwuerenlos.ch
SUMMARY:Kreisspielwoche Volleyball Mixed
DESCRIPTION:
URL:https://tvwuerenlos.ch/event/kreisspielwoche-volleyball-mixed/
LOCATION:Mellingen
END:VEVENT
BEGIN:VEVENT
DTSTART;VALUE=DATE:20260227
DTEND;VALUE=DATE:20260228
DTSTAMP:20260419T222017
CREATED:20251228T195946Z
LAST-MODIFIED:20251228T195946Z
UID:12355-1772150400-1772236799@tvwuerenlos.ch
SUMMARY:Volleyball Meisterschaft
DESCRIPTION:
URL:https://tvwuerenlos.ch/event/volleyball-meisterschaft-7/
LOCATION:Mehrzweckhalle Würenlos\, Gipfstrasse\, Würenlos\, 5436\, Schweiz
END:VEVENT
END:VCALENDAR