BEGIN:VCALENDAR
VERSION:2.0
PRODID:-//TV Würenlos - ECPv6.15.20//NONSGML v1.0//EN
CALSCALE:GREGORIAN
METHOD:PUBLISH
X-ORIGINAL-URL:https://tvwuerenlos.ch
X-WR-CALDESC:Veranstaltungen für TV Würenlos
REFRESH-INTERVAL;VALUE=DURATION:PT1H
X-Robots-Tag:noindex
X-PUBLISHED-TTL:PT1H
BEGIN:VTIMEZONE
TZID:Europe/Zurich
BEGIN:DAYLIGHT
TZOFFSETFROM:+0100
TZOFFSETTO:+0200
TZNAME:CEST
DTSTART:20250330T010000
END:DAYLIGHT
BEGIN:STANDARD
TZOFFSETFROM:+0200
TZOFFSETTO:+0100
TZNAME:CET
DTSTART:20251026T010000
END:STANDARD
BEGIN:DAYLIGHT
TZOFFSETFROM:+0100
TZOFFSETTO:+0200
TZNAME:CEST
DTSTART:20260329T010000
END:DAYLIGHT
BEGIN:STANDARD
TZOFFSETFROM:+0200
TZOFFSETTO:+0100
TZNAME:CET
DTSTART:20261025T010000
END:STANDARD
BEGIN:DAYLIGHT
TZOFFSETFROM:+0100
TZOFFSETTO:+0200
TZNAME:CEST
DTSTART:20270328T010000
END:DAYLIGHT
BEGIN:STANDARD
TZOFFSETFROM:+0200
TZOFFSETTO:+0100
TZNAME:CET
DTSTART:20271031T010000
END:STANDARD
END:VTIMEZONE
BEGIN:VEVENT
DTSTART;VALUE=DATE:20260302
DTEND;VALUE=DATE:20260303
DTSTAMP:20260419T204135
CREATED:20251229T202406Z
LAST-MODIFIED:20251229T202406Z
UID:12359-1772409600-1772495999@tvwuerenlos.ch
SUMMARY:Volleyball Meisterschaft
DESCRIPTION:
URL:https://tvwuerenlos.ch/event/volleyball-meisterschaft-8/
LOCATION:Mehrzweckhalle Würenlos\, Gipfstrasse\, Würenlos\, 5436\, Schweiz
END:VEVENT
BEGIN:VEVENT
DTSTART;VALUE=DATE:20260303
DTEND;VALUE=DATE:20260304
DTSTAMP:20260419T204135
CREATED:20251229T202432Z
LAST-MODIFIED:20251229T202432Z
UID:12361-1772496000-1772582399@tvwuerenlos.ch
SUMMARY:Kreisspielwoche Unihockey Mixed
DESCRIPTION:
URL:https://tvwuerenlos.ch/event/kreisspielwoche-unihockey-mixed/
LOCATION:Niederrohrdorf
END:VEVENT
BEGIN:VEVENT
DTSTART;VALUE=DATE:20260306
DTEND;VALUE=DATE:20260307
DTSTAMP:20260419T204135
CREATED:20251229T202504Z
LAST-MODIFIED:20251229T202504Z
UID:12363-1772755200-1772841599@tvwuerenlos.ch
SUMMARY:Volleyball Meisterschaft
DESCRIPTION:
URL:https://tvwuerenlos.ch/event/volleyball-meisterschaft-9/
LOCATION:Mehrzweckhalle Würenlos\, Gipfstrasse\, Würenlos\, 5436\, Schweiz
END:VEVENT
BEGIN:VEVENT
DTSTART;VALUE=DATE:20260314
DTEND;VALUE=DATE:20260315
DTSTAMP:20260419T204135
CREATED:20251229T202556Z
LAST-MODIFIED:20251229T202556Z
UID:12365-1773446400-1773532799@tvwuerenlos.ch
SUMMARY:Finalrunde Faustball
DESCRIPTION:
URL:https://tvwuerenlos.ch/event/finalrunde-faustball/
LOCATION:Würenlingen
END:VEVENT
BEGIN:VEVENT
DTSTART;VALUE=DATE:20260321
DTEND;VALUE=DATE:20260323
DTSTAMP:20260419T204135
CREATED:20251229T202643Z
LAST-MODIFIED:20251229T202643Z
UID:12368-1774051200-1774223999@tvwuerenlos.ch
SUMMARY:SaltOpen
DESCRIPTION:
URL:https://tvwuerenlos.ch/event/saltopen/
LOCATION:Oberrohrdorf
END:VEVENT
BEGIN:VEVENT
DTSTART;TZID=Europe/Zurich:20260327T080000
DTEND;TZID=Europe/Zurich:20260329T170000
DTSTAMP:20260419T204135
CREATED:20251229T202729Z
LAST-MODIFIED:20251229T202729Z
UID:12371-1774598400-1774803600@tvwuerenlos.ch
SUMMARY:Skiweekend Aktive
DESCRIPTION:
URL:https://tvwuerenlos.ch/event/skiweekend-aktive-2/
LOCATION:Davos
END:VEVENT
BEGIN:VEVENT
DTSTART;VALUE=DATE:20260328
DTEND;VALUE=DATE:20260329
DTSTAMP:20260419T204135
CREATED:20251229T202802Z
LAST-MODIFIED:20251229T202802Z
UID:12375-1774656000-1774742399@tvwuerenlos.ch
SUMMARY:Papiersammlung
DESCRIPTION:
URL:https://tvwuerenlos.ch/event/papiersammlung-2/
LOCATION:Bahnhof Würenlos
END:VEVENT
END:VCALENDAR